BEGIN:VCALENDAR
VERSION:2.0
PRODID:-//ChamberMaster//Event Calendar 2.0//EN
METHOD:PUBLISH
X-PUBLISHED-TTL:P3D
REFRESH-INTERVAL:P3D
CALSCALE:GREGORIAN
BEGIN:VEVENT
DTSTART:20200401T230000Z
DTEND:20200402T010000Z
X-MICROSOFT-CDO-ALLDAYEVENT:FALSE
SUMMARY:SWVT Chamber's Digital Business Roundtable: 4/1
DESCRIPTION:All of us were caught off-guard by recent events\, causing anger\, disbelief\, frustration and fear as we face disruption in our lives and families. This can shake the confidence of business owners\, employees and communities creating additional chaos for our businesses. Let's connect digitally to prepare and develop a business survival plan!\n\nThe Southwestern Vermont Chamber of Commerce has partnered with Action For Traction founder Ron Levine to offer 60-90 minute digital business roundtables for our chamber members at no cost to the member.\n\n\n\nLet's connect digitally\, to prepare\, exchange ideas and build a survival plan!\n\n\n\nTARGET AUDIENCE:\n\n\n	10-12 business owners per digital roundtable\n	60-90 minute Zoom Video conference\n	Must have internet access\n	Open minded\, honest and willingness to share\n\n\n\nWHAT TO EXPECT:\n\nIntroductions: Who\, What\, & Where\n\nCheck-in: What are you feeling right now\n\nProblem Identification:  Identification of specific problems you are facing\n\nStrategic Thinking & Coaching: Ten Ideas for Transforming anxieties into strategies \n\nSurvival Tactics: Seven Tactics for Survival\, things to do NOW
X-ALT-DESC;FMTTYPE=text/html:<p style="margin-top: 0px\; overflow-wrap: break-word\; color: rgb(0\, 0\, 0)\; font-family: Lato\; font-size: 17px\; letter-spacing: 1.02px\; white-space: pre-wrap\;"><span style="font-size:12px\;">All of us were caught off-guard by recent events\, causing anger\, disbelief\, frustration and fear as we face disruption in our lives and families. This can shake the confidence of business owners\, employees and communities creating additional chaos for our businesses. Let&rsquo\;s connect digitally to prepare and develop a business survival plan!</span></p>\n\n<p style="margin-bottom: 0px\; overflow-wrap: break-word\; color: rgb(0\, 0\, 0)\; font-family: Lato\; font-size: 17px\; letter-spacing: 1.02px\; white-space: pre-wrap\;"><span style="font-size:12px\;">The Southwestern Vermont Chamber of Commerce has partnered with <strong><a href="https://www.ronlevene.com/">Action For Traction</a></strong> founder Ron Levine to offer 60-90 minute digital business roundtables for our chamber members at no cost to the member.</span></p>\n\n<div class="sqs-block html-block sqs-block-html" data-block-type="2" id="block-yui_3_17_2_1_1585151416583_10049" style="position: relative\; height: auto\; padding: 17px\; outline: none\; box-shadow: rgba(128\, 128\, 128\, 0) 0px 0px 0px 1px inset\; transition: box-shadow 0.2s ease-in-out 0s\; clear: none\; color: rgb(0\, 0\, 0)\; font-family: Lato\; font-size: 17px\; letter-spacing: 1.02px\;">\n<div class="sqs-block-content" style="outline: none\;">\n<p style="margin-bottom: 0px\; overflow-wrap: break-word\; text-align: center\; white-space: pre-wrap\;"><strong style="overflow-wrap: break-word\;">Let&rsquo\;s connect digitally\, to prepare\, exchange ideas and build a survival plan!</strong></p>\n</div>\n</div>\n\n<h1 style="font-size: 25px\; margin: 0px 0px 0.67em\; text-rendering: optimizelegibility\; font-family: &quot\;Josefin Sans&quot\;\; font-weight: 700\; letter-spacing: 0.14em\; line-height: 1.6em\; text-transform: uppercase\; color: rgb(18\, 18\, 18)\; white-space: pre-wrap\;"><span style="font-size:12px\;">TARGET AUDIENCE:</span></h1>\n\n<ul>\n	<li style="list-style-type: none\; margin-top: 0.5em\; margin-bottom: 0.5em\; overflow-wrap: break-word\; white-space: pre-wrap\;"><span style="font-size:12px\;">10-12 business owners per digital roundtable</span></li>\n	<li style="list-style-type: none\; margin-top: 0.5em\; margin-bottom: 0.5em\; overflow-wrap: break-word\; white-space: pre-wrap\;"><span style="font-size:12px\;">60-90 minute Zoom Video conference</span></li>\n	<li style="list-style-type: none\; margin-top: 0.5em\; margin-bottom: 0.5em\; overflow-wrap: break-word\; white-space: pre-wrap\;"><span style="font-size:12px\;">Must have internet access</span></li>\n	<li style="list-style-type: none\; margin-top: 0.5em\; margin-bottom: 0.5em\; overflow-wrap: break-word\; white-space: pre-wrap\;"><span style="font-size:12px\;">Open minded\, honest and willingness to share</span></li>\n</ul>\n\n<div style="list-style-type: none\; margin-top: 0.5em\; margin-bottom: 0.5em\; overflow-wrap: break-word\; white-space: pre-wrap\;">\n<h1 style="font-size: 25px\; margin: 0px 0px 0.67em\; text-rendering: optimizelegibility\; font-family: &quot\;Josefin Sans&quot\;\; font-weight: 700\; letter-spacing: 0.14em\; line-height: 1.6em\; text-transform: uppercase\; color: rgb(18\, 18\, 18)\; white-space: pre-wrap\;"><span style="font-size:12px\;"><span style="font-family:arial\;">WHAT TO EXPECT:</span></span></h1>\n\n<p style="overflow-wrap: break-word\; color: rgb(0\, 0\, 0)\; font-family: Lato\; font-size: 17px\; letter-spacing: 1.02px\; white-space: pre-wrap\;"><span style="font-size:12px\;"><span style="font-family:arial\;"><strong style="overflow-wrap: break-word\;">Introductions:</strong> Who\, What\, &amp\; Where</span></span></p>\n\n<p style="overflow-wrap: break-word\; color: rgb(0\, 0\, 0)\; font-family: Lato\; font-size: 17px\; letter-spacing: 1.02px\; white-space: pre-wrap\;"><span style="font-size:12px\;"><span style="font-family:arial\;"><strong style="overflow-wrap: break-word\;">Check-in:</strong> What are you feeling right now</span></span></p>\n\n<p style="overflow-wrap: break-word\; color: rgb(0\, 0\, 0)\; font-family: Lato\; font-size: 17px\; letter-spacing: 1.02px\; white-space: pre-wrap\;"><span style="font-size:12px\;"><span style="font-family:arial\;"><strong style="overflow-wrap: break-word\;">Problem Identification: </strong> Identification of specific problems you are facing</span></span></p>\n\n<p style="overflow-wrap: break-word\; color: rgb(0\, 0\, 0)\; font-family: Lato\; font-size: 17px\; letter-spacing: 1.02px\; white-space: pre-wrap\;"><span style="font-size:12px\;"><span style="font-family:arial\;"><strong style="overflow-wrap: break-word\;">Strategic Thinking &amp\; Coaching:</strong> Ten Ideas for Transforming anxieties into strategies </span></span></p>\n\n<p style="margin-bottom: 0px\; overflow-wrap: break-word\; color: rgb(0\, 0\, 0)\; font-family: Lato\; font-size: 17px\; letter-spacing: 1.02px\; white-space: pre-wrap\;"><span style="font-size:12px\;"><span style="font-family:arial\;"><strong style="overflow-wrap: break-word\;">Survival Tactics:</strong> Seven Tactics for Survival\, things to do NOW</span></span></p>\n</div>\n
LOCATION:Join us via Zoom Video Conference. Once registered the facilitator will be in touch with sign on instructions.
UID:e.7790.1509
SEQUENCE:3
DTSTAMP:20260421T134920Z
URL:https://business.bennington.com/events/details/swvt-chamber-s-digital-business-roundtable-4-1-1509
END:VEVENT

END:VCALENDAR
