BEGIN:VCALENDAR
VERSION:2.0
PRODID:-//ChamberMaster//Event Calendar 2.0//EN
METHOD:PUBLISH
X-PUBLISHED-TTL:P3D
REFRESH-INTERVAL:P3D
CALSCALE:GREGORIAN
BEGIN:VEVENT
DTSTART:20251204T150000Z
DTEND:20251204T160000Z
X-MICROSOFT-CDO-ALLDAYEVENT:FALSE
SUMMARY:Ribbon Cutting for Bennington Bagel Company
DESCRIPTION:Join us in North Bennington for the Ribbon Cutting at Bennington Bagel. We are excited to have the chance to welcome them and indulge in some of their delicious menu items. Please help us welcome them and wish them many years of success.
X-ALT-DESC;FMTTYPE=text/html:Join us in North Bennington for the Ribbon Cutting at Bennington Bagel. We are excited to have the chance to welcome them and indulge in some of their delicious menu items. Please help us welcome them and wish them many years of success.
LOCATION:25 Main Street North Bennington
UID:e.7790.2753
SEQUENCE:3
DTSTAMP:20260425T012249Z
URL:https://business.bennington.com/events/details/ribbon-cutting-for-bennington-bagel-company-2753
END:VEVENT

END:VCALENDAR
