BEGIN:VCALENDAR
VERSION:2.0
PRODID:-//ChamberMaster//Event Calendar 2.0//EN
METHOD:PUBLISH
X-PUBLISHED-TTL:P3D
REFRESH-INTERVAL:P3D
CALSCALE:GREGORIAN
BEGIN:VEVENT
DTSTART:20260224T133000Z
DTEND:20260224T160000Z
X-MICROSOFT-CDO-ALLDAYEVENT:FALSE
SUMMARY:Brewing a Better Business with BBB
DESCRIPTION:Join the SWVT Chamber of Commerce for Brewing Better Business\, hosted by Mary Kohn of the Better Business Bureau\, on February 24\, 2026\, at the Coffee Bar in Bennington. The event runs from 8:30 a.m. to 11:00 a.m.\n\n Matt and I will be on hand from 9:00 a.m. to 10:30 a.m. to help make introductions and be available to our members. It's a great opportunity to connect\, network\, and start the day with meaningful business conversations.\nRegister HERE
X-ALT-DESC;FMTTYPE=text/html:<span style="font-size:12px\;"><span style="font-family:verdana\;">Join the SWVT Chamber of Commerce for <strong data-end="65" data-start="38">Brewing Better Business</strong>\, hosted by Mary Kohn of the Better Business Bureau\, on <strong data-end="142" data-start="121">February 24\, 2026\,</strong> at the <strong data-end="178" data-start="150">Coffee Bar in Bennington</strong>. The event runs from <strong data-end="227" data-start="200">8:30 a.m. to 11:00 a.m.</strong><br />\n&nbsp\;Matt and I will be on hand from <strong data-end="286" data-start="259">9:00 a.m. to 10:30 a.m.</strong> to help make introductions and be available to our members. It&rsquo\;s a great opportunity to connect\, network\, and start the day with meaningful business conversations.</span></span>\n<p style="box-sizing: border-box\; padding: 0px 0px 12px\; margin: 12px 0px 0px\; color: rgb(88\, 81\, 99)\; font-family: &quot\;Neue Plak&quot\;\, -apple-system\, BlinkMacSystemFont\, Roboto\, &quot\;Helvetica Neue&quot\;\, Helvetica\, Tahoma\, Arial\, sans-serif\; font-size: 18px\; letter-spacing: 0.1px\;"><a href="https://www.eventbrite.com/e/brewing-better-business-tickets-1979886868922?aff=oddtdtcreator">Register HERE</a></p>\n
LOCATION:THE COFFEE BAR South Street Bennington\, VT 05201
UID:e.7790.2756
SEQUENCE:3
DTSTAMP:20260424T213343Z
URL:https://business.bennington.com/events/details/brewing-a-better-business-with-bbb-2756
END:VEVENT

END:VCALENDAR
